BEGIN:VCALENDAR
VERSION:2.0
PRODID:-//Community Foundation of St. Clair County, Michigan - ECPv6.15.17//NONSGML v1.0//EN
CALSCALE:GREGORIAN
METHOD:PUBLISH
X-WR-CALNAME:Community Foundation of St. Clair County, Michigan
X-ORIGINAL-URL:https://stclairfoundation.org
X-WR-CALDESC:Events for Community Foundation of St. Clair County, Michigan
REFRESH-INTERVAL;VALUE=DURATION:PT1H
X-Robots-Tag:noindex
X-PUBLISHED-TTL:PT1H
BEGIN:VTIMEZONE
TZID:America/Detroit
BEGIN:DAYLIGHT
TZOFFSETFROM:-0500
TZOFFSETTO:-0400
TZNAME:EDT
DTSTART:20250309T070000
END:DAYLIGHT
BEGIN:STANDARD
TZOFFSETFROM:-0400
TZOFFSETTO:-0500
TZNAME:EST
DTSTART:20251102T060000
END:STANDARD
BEGIN:DAYLIGHT
TZOFFSETFROM:-0500
TZOFFSETTO:-0400
TZNAME:EDT
DTSTART:20260308T070000
END:DAYLIGHT
BEGIN:STANDARD
TZOFFSETFROM:-0400
TZOFFSETTO:-0500
TZNAME:EST
DTSTART:20261101T060000
END:STANDARD
BEGIN:DAYLIGHT
TZOFFSETFROM:-0500
TZOFFSETTO:-0400
TZNAME:EDT
DTSTART:20270314T070000
END:DAYLIGHT
BEGIN:STANDARD
TZOFFSETFROM:-0400
TZOFFSETTO:-0500
TZNAME:EST
DTSTART:20271107T060000
END:STANDARD
END:VTIMEZONE
BEGIN:VEVENT
DTSTART;TZID=America/Detroit:20260804T083000
DTEND;TZID=America/Detroit:20260804T100000
DTSTAMP:20260424T170045
CREATED:20250630T180312Z
LAST-MODIFIED:20250630T180312Z
UID:10000771-1785832200-1785837600@stclairfoundation.org
SUMMARY:Governance Committee Meeting
DESCRIPTION:
URL:https://stclairfoundation.org/calendar/governance-committee-meeting-15/
LOCATION:CF Conference Room\, 500 Water Street\, Port Huron\, MI\, 48060\, United States
END:VEVENT
BEGIN:VEVENT
DTSTART;TZID=America/Detroit:20260806T083000
DTEND;TZID=America/Detroit:20260806T100000
DTSTAMP:20260424T170045
CREATED:20250626T190141Z
LAST-MODIFIED:20250626T190141Z
UID:10000747-1786005000-1786010400@stclairfoundation.org
SUMMARY:Blue Water Arts Committee Meeting
DESCRIPTION:
URL:https://stclairfoundation.org/calendar/blue-water-arts-committee-meeting-9/
LOCATION:CF Conference Room\, 500 Water Street\, Port Huron\, MI\, 48060\, United States
END:VEVENT
BEGIN:VEVENT
DTSTART;TZID=America/Detroit:20260812T080000
DTEND;TZID=America/Detroit:20260812T093000
DTSTAMP:20260424T170045
CREATED:20250630T174135Z
LAST-MODIFIED:20250630T174135Z
UID:10000762-1786521600-1786527000@stclairfoundation.org
SUMMARY:Executive Committee Meeting
DESCRIPTION:
URL:https://stclairfoundation.org/calendar/executive-committee-meeting-25/
LOCATION:CF Conference Room\, 500 Water Street\, Port Huron\, MI\, 48060\, United States
END:VEVENT
BEGIN:VEVENT
DTSTART;TZID=America/Detroit:20260826T083000
DTEND;TZID=America/Detroit:20260826T100000
DTSTAMP:20260424T170045
CREATED:20250630T175950Z
LAST-MODIFIED:20250630T175950Z
UID:10000767-1787733000-1787738400@stclairfoundation.org
SUMMARY:Finance & Investment Committee Meeting
DESCRIPTION:
URL:https://stclairfoundation.org/calendar/finance-investment-committee-meeting-24/
LOCATION:CF Conference Room\, 500 Water Street\, Port Huron\, MI\, 48060\, United States
END:VEVENT
END:VCALENDAR