BEGIN:VCALENDAR
VERSION:2.0
PRODID:-//Community Foundation of St. Clair County, Michigan - ECPv6.15.17//NONSGML v1.0//EN
CALSCALE:GREGORIAN
METHOD:PUBLISH
X-WR-CALNAME:Community Foundation of St. Clair County, Michigan
X-ORIGINAL-URL:https://stclairfoundation.org
X-WR-CALDESC:Events for Community Foundation of St. Clair County, Michigan
REFRESH-INTERVAL;VALUE=DURATION:PT1H
X-Robots-Tag:noindex
X-PUBLISHED-TTL:PT1H
BEGIN:VTIMEZONE
TZID:America/Detroit
BEGIN:DAYLIGHT
TZOFFSETFROM:-0500
TZOFFSETTO:-0400
TZNAME:EDT
DTSTART:20240310T070000
END:DAYLIGHT
BEGIN:STANDARD
TZOFFSETFROM:-0400
TZOFFSETTO:-0500
TZNAME:EST
DTSTART:20241103T060000
END:STANDARD
BEGIN:DAYLIGHT
TZOFFSETFROM:-0500
TZOFFSETTO:-0400
TZNAME:EDT
DTSTART:20250309T070000
END:DAYLIGHT
BEGIN:STANDARD
TZOFFSETFROM:-0400
TZOFFSETTO:-0500
TZNAME:EST
DTSTART:20251102T060000
END:STANDARD
BEGIN:DAYLIGHT
TZOFFSETFROM:-0500
TZOFFSETTO:-0400
TZNAME:EDT
DTSTART:20260308T070000
END:DAYLIGHT
BEGIN:STANDARD
TZOFFSETFROM:-0400
TZOFFSETTO:-0500
TZNAME:EST
DTSTART:20261101T060000
END:STANDARD
BEGIN:DAYLIGHT
TZOFFSETFROM:-0500
TZOFFSETTO:-0400
TZNAME:EDT
DTSTART:20270314T070000
END:DAYLIGHT
BEGIN:STANDARD
TZOFFSETFROM:-0400
TZOFFSETTO:-0500
TZNAME:EST
DTSTART:20271107T060000
END:STANDARD
END:VTIMEZONE
BEGIN:VEVENT
DTSTART;TZID=America/Detroit:20260413T143000
DTEND;TZID=America/Detroit:20260413T160000
DTSTAMP:20260424T190101
CREATED:20250630T182602Z
LAST-MODIFIED:20260409T180823Z
UID:10000788-1776090600-1776096000@stclairfoundation.org
SUMMARY:St. Clair Endowment Funds Committee Meeting
DESCRIPTION:
URL:https://stclairfoundation.org/calendar/st-clair-endowment-funds-committee-meeting-15/
LOCATION:St. Clair Art Association\, 201 N. Riverside Avenue\, St. Clair\, 48079\, United States
END:VEVENT
BEGIN:VEVENT
DTSTART;TZID=America/Detroit:20260408T080000
DTEND;TZID=America/Detroit:20260408T093000
DTSTAMP:20260424T190101
CREATED:20250630T173929Z
LAST-MODIFIED:20250630T173929Z
UID:10000760-1775635200-1775640600@stclairfoundation.org
SUMMARY:Executive Committee Meeting
DESCRIPTION:
URL:https://stclairfoundation.org/calendar/executive-committee-meeting-23/
LOCATION:CF Conference Room\, 500 Water Street\, Port Huron\, MI\, 48060\, United States
END:VEVENT
BEGIN:VEVENT
DTSTART;TZID=America/Detroit:20260407T083000
DTEND;TZID=America/Detroit:20260407T100000
DTSTAMP:20260424T190101
CREATED:20250630T180234Z
LAST-MODIFIED:20250630T180234Z
UID:10000770-1775550600-1775556000@stclairfoundation.org
SUMMARY:Governance Committee Meeting
DESCRIPTION:
URL:https://stclairfoundation.org/calendar/governance-committee-meeting-14/
LOCATION:CF Conference Room\, 500 Water Street\, Port Huron\, MI\, 48060\, United States
END:VEVENT
BEGIN:VEVENT
DTSTART;TZID=America/Detroit:20260324T120000
DTEND;TZID=America/Detroit:20260324T140000
DTSTAMP:20260424T190101
CREATED:20250626T190454Z
LAST-MODIFIED:20250626T190454Z
UID:10000750-1774353600-1774360800@stclairfoundation.org
SUMMARY:Board Meeting
DESCRIPTION:
URL:https://stclairfoundation.org/calendar/board-meeting-3/
LOCATION:CF Conference Room\, 500 Water Street\, Port Huron\, MI\, 48060\, United States
END:VEVENT
BEGIN:VEVENT
DTSTART;TZID=America/Detroit:20260315T170000
DTEND;TZID=America/Detroit:20260315T183000
DTSTAMP:20260424T190101
CREATED:20250702T135056Z
LAST-MODIFIED:20250702T135056Z
UID:10000800-1773594000-1773599400@stclairfoundation.org
SUMMARY:Youth Advisory Council
DESCRIPTION:
URL:https://stclairfoundation.org/calendar/youth-advisory-council-3/
LOCATION:CF Conference Room\, 500 Water Street\, Port Huron\, MI\, 48060\, United States
END:VEVENT
BEGIN:VEVENT
DTSTART;TZID=America/Detroit:20260311T073000
DTEND;TZID=America/Detroit:20260311T090000
DTSTAMP:20260424T190101
CREATED:20250630T184513Z
LAST-MODIFIED:20250630T184513Z
UID:10000793-1773214200-1773219600@stclairfoundation.org
SUMMARY:Women's Initiative Steering Committee Meeting
DESCRIPTION:
URL:https://stclairfoundation.org/calendar/womens-initiative-steering-committee-meeting-9/
LOCATION:CF Conference Room\, 500 Water Street\, Port Huron\, MI\, 48060\, United States
END:VEVENT
BEGIN:VEVENT
DTSTART;TZID=America/Detroit:20260310T040000
DTEND;TZID=America/Detroit:20260310T173000
DTSTAMP:20260424T190101
CREATED:20260206T193607Z
LAST-MODIFIED:20260206T193607Z
UID:10000813-1773115200-1773163800@stclairfoundation.org
SUMMARY:Community Capital Club Meeting
DESCRIPTION:
URL:https://stclairfoundation.org/calendar/community-capital-club-meeting/
LOCATION:CF Conference Room\, 500 Water Street\, Port Huron\, MI\, 48060\, United States
END:VEVENT
BEGIN:VEVENT
DTSTART;TZID=America/Detroit:20260303T080000
DTEND;TZID=America/Detroit:20260303T093000
DTSTAMP:20260424T190101
CREATED:20250630T180935Z
LAST-MODIFIED:20250630T180935Z
UID:10000778-1772524800-1772530200@stclairfoundation.org
SUMMARY:Marysville Community Fund Committee Meeting
DESCRIPTION:
URL:https://stclairfoundation.org/calendar/marysville-community-fund-committee-meeting-10/
LOCATION:CF Conference Room\, 500 Water Street\, Port Huron\, MI\, 48060\, United States
END:VEVENT
BEGIN:VEVENT
DTSTART;TZID=America/Detroit:20260225T120000
DTEND;TZID=America/Detroit:20260225T130000
DTSTAMP:20260424T190101
CREATED:20260202T200440Z
LAST-MODIFIED:20260202T200440Z
UID:10000810-1772020800-1772024400@stclairfoundation.org
SUMMARY:Mission Related Investment Committee
DESCRIPTION:
URL:https://stclairfoundation.org/calendar/mission-related-investment-committee-6/
LOCATION:CF Conference Room\, 500 Water Street\, Port Huron\, MI\, 48060\, United States
END:VEVENT
BEGIN:VEVENT
DTSTART;TZID=America/Detroit:20260225T083000
DTEND;TZID=America/Detroit:20260225T100000
DTSTAMP:20260424T190101
CREATED:20250630T175623Z
LAST-MODIFIED:20250630T175715Z
UID:10000764-1772008200-1772013600@stclairfoundation.org
SUMMARY:Finance & Investment Committee Meeting
DESCRIPTION:
URL:https://stclairfoundation.org/calendar/finance-investment-committee-meeting-21/
LOCATION:CF Conference Room\, 500 Water Street\, Port Huron\, MI\, 48060\, United States
END:VEVENT
BEGIN:VEVENT
DTSTART;TZID=America/Detroit:20260223T143000
DTEND;TZID=America/Detroit:20260223T160000
DTSTAMP:20260424T190101
CREATED:20250630T182512Z
LAST-MODIFIED:20260116T195506Z
UID:10000787-1771857000-1771862400@stclairfoundation.org
SUMMARY:St. Clair Endowment Funds Committee Meeting
DESCRIPTION:
URL:https://stclairfoundation.org/calendar/st-clair-endowment-funds-committee-meeting-14/
LOCATION:CF Conference Room\, 500 Water Street\, Port Huron\, MI\, 48060\, United States
END:VEVENT
BEGIN:VEVENT
DTSTART;TZID=America/Detroit:20260218T150000
DTEND;TZID=America/Detroit:20260218T163000
DTSTAMP:20260424T190101
CREATED:20250630T180553Z
LAST-MODIFIED:20250630T180553Z
UID:10000774-1771426800-1771432200@stclairfoundation.org
SUMMARY:Grants Committee Meeting
DESCRIPTION:
URL:https://stclairfoundation.org/calendar/grants-committee-meeting-12/
LOCATION:CF Conference Room\, 500 Water Street\, Port Huron\, MI\, 48060\, United States
END:VEVENT
BEGIN:VEVENT
DTSTART;TZID=America/Detroit:20260218T080000
DTEND;TZID=America/Detroit:20260218T093000
DTSTAMP:20260424T190101
CREATED:20250630T173755Z
LAST-MODIFIED:20250630T173755Z
UID:10000759-1771401600-1771407000@stclairfoundation.org
SUMMARY:Executive Committee Meeting
DESCRIPTION:
URL:https://stclairfoundation.org/calendar/executive-committee-meeting-22/
LOCATION:CF Conference Room\, 500 Water Street\, Port Huron\, MI\, 48060\, United States
END:VEVENT
BEGIN:VEVENT
DTSTART;TZID=America/Detroit:20260215T170000
DTEND;TZID=America/Detroit:20260215T183000
DTSTAMP:20260424T190101
CREATED:20250702T135003Z
LAST-MODIFIED:20250702T135003Z
UID:10000799-1771174800-1771180200@stclairfoundation.org
SUMMARY:Youth Advisory Council
DESCRIPTION:
URL:https://stclairfoundation.org/calendar/youth-advisory-council-2/
LOCATION:CF Conference Room\, 500 Water Street\, Port Huron\, MI\, 48060\, United States
END:VEVENT
BEGIN:VEVENT
DTSTART;TZID=America/Detroit:20260212T170000
DTEND;TZID=America/Detroit:20260212T183000
DTSTAMP:20260424T190101
CREATED:20250630T171640Z
LAST-MODIFIED:20250702T151708Z
UID:10000755-1770915600-1770921000@stclairfoundation.org
SUMMARY:Equity & Inclusion Committee Meeting
DESCRIPTION:
URL:https://stclairfoundation.org/calendar/equity-inclusion-committee-meeting-11/
LOCATION:CF Conference Room\, 500 Water Street\, Port Huron\, MI\, 48060\, United States
END:VEVENT
BEGIN:VEVENT
DTSTART;TZID=America/Detroit:20260205T150000
DTEND;TZID=America/Detroit:20260205T160000
DTSTAMP:20260424T190101
CREATED:20260114T123026Z
LAST-MODIFIED:20260114T123026Z
UID:10000809-1770303600-1770307200@stclairfoundation.org
SUMMARY:SC4 Foundation Board Meeting
DESCRIPTION:
URL:https://stclairfoundation.org/calendar/sc4-foundation-board-meeting-9/
LOCATION:CF Conference Room\, 500 Water Street\, Port Huron\, MI\, 48060\, United States
END:VEVENT
BEGIN:VEVENT
DTSTART;TZID=America/Detroit:20260205T083000
DTEND;TZID=America/Detroit:20260205T100000
DTSTAMP:20260424T190101
CREATED:20250626T185632Z
LAST-MODIFIED:20250626T185632Z
UID:10000744-1770280200-1770285600@stclairfoundation.org
SUMMARY:Blue Water Arts Committee Meeting
DESCRIPTION:
URL:https://stclairfoundation.org/calendar/blue-water-arts-committee-meeting-7/
LOCATION:CF Conference Room\, 500 Water Street\, Port Huron\, MI\, 48060\, United States
END:VEVENT
BEGIN:VEVENT
DTSTART;TZID=America/Detroit:20260127T120000
DTEND;TZID=America/Detroit:20260127T140000
DTSTAMP:20260424T190101
CREATED:20250626T190408Z
LAST-MODIFIED:20250626T190408Z
UID:10000749-1769515200-1769522400@stclairfoundation.org
SUMMARY:Board Meeting
DESCRIPTION:
URL:https://stclairfoundation.org/calendar/board-meeting-2/
LOCATION:CF Conference Room\, 500 Water Street\, Port Huron\, MI\, 48060\, United States
END:VEVENT
BEGIN:VEVENT
DTSTART;TZID=America/Detroit:20260118T170000
DTEND;TZID=America/Detroit:20260118T183000
DTSTAMP:20260424T190101
CREATED:20250702T134911Z
LAST-MODIFIED:20250702T134911Z
UID:10000798-1768755600-1768761000@stclairfoundation.org
SUMMARY:Youth Advisory Council
DESCRIPTION:
URL:https://stclairfoundation.org/calendar/youth-advisory-council/
LOCATION:CF Conference Room\, 500 Water Street\, Port Huron\, MI\, 48060\, United States
END:VEVENT
BEGIN:VEVENT
DTSTART;TZID=America/Detroit:20260114T073000
DTEND;TZID=America/Detroit:20260114T090000
DTSTAMP:20260424T190101
CREATED:20250630T184345Z
LAST-MODIFIED:20250630T184345Z
UID:10000792-1768375800-1768381200@stclairfoundation.org
SUMMARY:Women's Initiative Steering Committee Meeting
DESCRIPTION:
URL:https://stclairfoundation.org/calendar/womens-initiative-steering-committee-meeting-8/
LOCATION:CF Conference Room\, 500 Water Street\, Port Huron\, MI\, 48060\, United States
END:VEVENT
BEGIN:VEVENT
DTSTART;TZID=America/Detroit:20260105T093000
DTEND;TZID=America/Detroit:20260105T110000
DTSTAMP:20260424T190101
CREATED:20250630T181809Z
LAST-MODIFIED:20250630T181809Z
UID:10000781-1767605400-1767610800@stclairfoundation.org
SUMMARY:Scholarship Committee Meeting
DESCRIPTION:
URL:https://stclairfoundation.org/calendar/scholarship-committee-meeting-14/
LOCATION:CF Conference Room\, 500 Water Street\, Port Huron\, MI\, 48060\, United States
END:VEVENT
BEGIN:VEVENT
DTSTART;TZID=America/Detroit:20251219T190000
DTEND;TZID=America/Detroit:20251219T210000
DTSTAMP:20260424T190101
CREATED:20250909T185345Z
LAST-MODIFIED:20250909T185345Z
UID:10000805-1766170800-1766178000@stclairfoundation.org
SUMMARY:Marysville Community Fund Grant Give Away
DESCRIPTION:
URL:https://stclairfoundation.org/calendar/marysville-community-fund-grant-give-away/
LOCATION:Marysville High School\, 555 East Huron Boulavard\, Marysville\, 48040\, United States
END:VEVENT
BEGIN:VEVENT
DTSTART;TZID=America/Detroit:20251209T120000
DTEND;TZID=America/Detroit:20251209T133000
DTSTAMP:20260424T190101
CREATED:20240708T190303Z
LAST-MODIFIED:20240708T190303Z
UID:10000638-1765281600-1765287000@stclairfoundation.org
SUMMARY:CF Board Meeting
DESCRIPTION:
URL:https://stclairfoundation.org/calendar/cf-board-meeting-12/
LOCATION:CF Conference Room\, 500 Water Street\, Port Huron\, MI\, 48060\, United States
END:VEVENT
BEGIN:VEVENT
DTSTART;TZID=America/Detroit:20251204T170000
DTEND;TZID=America/Detroit:20251204T183000
DTSTAMP:20260424T190101
CREATED:20240712T172724Z
LAST-MODIFIED:20240712T172724Z
UID:10000643-1764867600-1764873000@stclairfoundation.org
SUMMARY:Equity & Inclusion Committee Meeting
DESCRIPTION:
URL:https://stclairfoundation.org/calendar/equity-inclusion-committee-meeting-10/
LOCATION:CF Conference Room\, 500 Water Street\, Port Huron\, MI\, 48060\, United States
END:VEVENT
BEGIN:VEVENT
DTSTART;TZID=America/Detroit:20251204T080000
DTEND;TZID=America/Detroit:20251204T093000
DTSTAMP:20260424T190101
CREATED:20240719T171519Z
LAST-MODIFIED:20240722T154602Z
UID:10000677-1764835200-1764840600@stclairfoundation.org
SUMMARY:SC4 Foundation Board Meeting
DESCRIPTION:
URL:https://stclairfoundation.org/calendar/sc4-foundation-board-meeting-5/
LOCATION:CF Conference Room\, 500 Water Street\, Port Huron\, MI\, 48060\, United States
END:VEVENT
BEGIN:VEVENT
DTSTART;TZID=America/Detroit:20251203T083000
DTEND;TZID=America/Detroit:20251203T220000
DTSTAMP:20260424T190101
CREATED:20240719T163615Z
LAST-MODIFIED:20240719T163615Z
UID:10000660-1764750600-1764799200@stclairfoundation.org
SUMMARY:Finance & Investment Committee Meeting
DESCRIPTION:
URL:https://stclairfoundation.org/calendar/finance-investment-committee-meeting-20/
LOCATION:CF Conference Room\, 500 Water Street\, Port Huron\, MI\, 48060\, United States
END:VEVENT
BEGIN:VEVENT
DTSTART;TZID=America/Detroit:20251202T083000
DTEND;TZID=America/Detroit:20251202T100000
DTSTAMP:20260424T190101
CREATED:20240719T170402Z
LAST-MODIFIED:20240719T170402Z
UID:10000664-1764664200-1764669600@stclairfoundation.org
SUMMARY:Governance Committee Meeting
DESCRIPTION:
URL:https://stclairfoundation.org/calendar/governance-committee-meeting-13/
LOCATION:CF Conference Room\, 500 Water Street\, Port Huron\, MI\, 48060\, United States
END:VEVENT
BEGIN:VEVENT
DTSTART;TZID=America/Detroit:20251201T170000
DTEND;TZID=America/Detroit:20251201T180000
DTSTAMP:20260424T190101
CREATED:20250226T180029Z
LAST-MODIFIED:20250226T180029Z
UID:10000731-1764608400-1764612000@stclairfoundation.org
SUMMARY:Algonac Clay Community Fund Committee Meeting
DESCRIPTION:
URL:https://stclairfoundation.org/calendar/algonac-clay-community-fund-committee-meeting-11/
LOCATION:Pearl Beach Lions Club\, 9590 Phelps Road\, Clay Twonship\, MI\, 48001
END:VEVENT
BEGIN:VEVENT
DTSTART;TZID=America/Detroit:20251119T083000
DTEND;TZID=America/Detroit:20251119T100000
DTSTAMP:20260424T190101
CREATED:20240719T163536Z
LAST-MODIFIED:20240719T163536Z
UID:10000659-1763541000-1763546400@stclairfoundation.org
SUMMARY:Finance & Investment Committee Meeting
DESCRIPTION:
URL:https://stclairfoundation.org/calendar/finance-investment-committee-meeting-19/
LOCATION:CF Conference Room\, 500 Water Street\, Port Huron\, MI\, 48060\, United States
END:VEVENT
BEGIN:VEVENT
DTSTART;TZID=America/Detroit:20251112T080000
DTEND;TZID=America/Detroit:20251112T093000
DTSTAMP:20260424T190101
CREATED:20240719T152404Z
LAST-MODIFIED:20240719T152404Z
UID:10000649-1762934400-1762939800@stclairfoundation.org
SUMMARY:Executive Committee Meeting
DESCRIPTION:
URL:https://stclairfoundation.org/calendar/executive-committee-meeting-19/
LOCATION:CF Conference Room\, 500 Water Street\, Port Huron\, MI\, 48060\, United States
END:VEVENT
END:VCALENDAR