BEGIN:VCALENDAR
VERSION:2.0
PRODID:-//Community Foundation of St. Clair County, Michigan - ECPv6.15.17//NONSGML v1.0//EN
CALSCALE:GREGORIAN
METHOD:PUBLISH
X-WR-CALNAME:Community Foundation of St. Clair County, Michigan
X-ORIGINAL-URL:https://stclairfoundation.org
X-WR-CALDESC:Events for Community Foundation of St. Clair County, Michigan
REFRESH-INTERVAL;VALUE=DURATION:PT1H
X-Robots-Tag:noindex
X-PUBLISHED-TTL:PT1H
BEGIN:VTIMEZONE
TZID:America/Detroit
BEGIN:DAYLIGHT
TZOFFSETFROM:-0500
TZOFFSETTO:-0400
TZNAME:EDT
DTSTART:20250309T070000
END:DAYLIGHT
BEGIN:STANDARD
TZOFFSETFROM:-0400
TZOFFSETTO:-0500
TZNAME:EST
DTSTART:20251102T060000
END:STANDARD
BEGIN:DAYLIGHT
TZOFFSETFROM:-0500
TZOFFSETTO:-0400
TZNAME:EDT
DTSTART:20260308T070000
END:DAYLIGHT
BEGIN:STANDARD
TZOFFSETFROM:-0400
TZOFFSETTO:-0500
TZNAME:EST
DTSTART:20261101T060000
END:STANDARD
BEGIN:DAYLIGHT
TZOFFSETFROM:-0500
TZOFFSETTO:-0400
TZNAME:EDT
DTSTART:20270314T070000
END:DAYLIGHT
BEGIN:STANDARD
TZOFFSETFROM:-0400
TZOFFSETTO:-0500
TZNAME:EST
DTSTART:20271107T060000
END:STANDARD
END:VTIMEZONE
BEGIN:VEVENT
DTSTART;TZID=America/Detroit:20260428T090000
DTEND;TZID=America/Detroit:20260428T103000
DTSTAMP:20260424T120445
CREATED:20260422T171131Z
LAST-MODIFIED:20260422T171131Z
UID:10000816-1777366800-1777372200@stclairfoundation.org
SUMMARY:Mission Related Investment Committee Meeting
DESCRIPTION:
URL:https://stclairfoundation.org/calendar/mission-related-investment-committee-meeting/
LOCATION:CF Conference Room\, 500 Water Street\, Port Huron\, MI\, 48060\, United States
END:VEVENT
BEGIN:VEVENT
DTSTART;TZID=America/Detroit:20260507T093000
DTEND;TZID=America/Detroit:20260507T110000
DTSTAMP:20260424T120445
CREATED:20250630T181900Z
LAST-MODIFIED:20250630T181900Z
UID:10000782-1778146200-1778151600@stclairfoundation.org
SUMMARY:Scholarship Committee Meeting
DESCRIPTION:
URL:https://stclairfoundation.org/calendar/scholarship-committee-meeting-15/
LOCATION:CF Conference Room\, 500 Water Street\, Port Huron\, MI\, 48060\, United States
END:VEVENT
BEGIN:VEVENT
DTSTART;TZID=America/Detroit:20260512T120000
DTEND;TZID=America/Detroit:20260512T140000
DTSTAMP:20260424T120445
CREATED:20250626T190547Z
LAST-MODIFIED:20250626T190547Z
UID:10000751-1778587200-1778594400@stclairfoundation.org
SUMMARY:Board Meeting
DESCRIPTION:
URL:https://stclairfoundation.org/calendar/board-meeting-4/
LOCATION:CF Conference Room\, 500 Water Street\, Port Huron\, MI\, 48060\, United States
END:VEVENT
BEGIN:VEVENT
DTSTART;TZID=America/Detroit:20260513T073000
DTEND;TZID=America/Detroit:20260513T090000
DTSTAMP:20260424T120445
CREATED:20250630T184620Z
LAST-MODIFIED:20250630T184620Z
UID:10000794-1778657400-1778662800@stclairfoundation.org
SUMMARY:Women's Initiative Steering Committee Meeting
DESCRIPTION:
URL:https://stclairfoundation.org/calendar/womens-initiative-steering-committee-meeting-10/
LOCATION:CF Conference Room\, 500 Water Street\, Port Huron\, MI\, 48060\, United States
END:VEVENT
BEGIN:VEVENT
DTSTART;TZID=America/Detroit:20260519T110000
DTEND;TZID=America/Detroit:20260519T130000
DTSTAMP:20260424T120445
CREATED:20260205T192015Z
LAST-MODIFIED:20260205T192015Z
UID:10000811-1779188400-1779195600@stclairfoundation.org
SUMMARY:Rural Summit
DESCRIPTION:
URL:https://stclairfoundation.org/calendar/rural-summit/
LOCATION:CF Conference Room\, 500 Water Street\, Port Huron\, MI\, 48060\, United States
END:VEVENT
BEGIN:VEVENT
DTSTART;TZID=America/Detroit:20260520T083000
DTEND;TZID=America/Detroit:20260520T100000
DTSTAMP:20260424T120445
CREATED:20250630T175808Z
LAST-MODIFIED:20250630T175808Z
UID:10000765-1779265800-1779271200@stclairfoundation.org
SUMMARY:Finance & Investment Committee Meeting
DESCRIPTION:
URL:https://stclairfoundation.org/calendar/finance-investment-committee-meeting-22/
LOCATION:CF Conference Room\, 500 Water Street\, Port Huron\, MI\, 48060\, United States
END:VEVENT
BEGIN:VEVENT
DTSTART;TZID=America/Detroit:20260531T170000
DTEND;TZID=America/Detroit:20260531T183000
DTSTAMP:20260424T120445
CREATED:20250702T135351Z
LAST-MODIFIED:20250702T144948Z
UID:10000802-1780246800-1780252200@stclairfoundation.org
SUMMARY:Youth Advisory Council
DESCRIPTION:
URL:https://stclairfoundation.org/calendar/youth-advisory-council-5/
LOCATION:CF Conference Room\, 500 Water Street\, Port Huron\, MI\, 48060\, United States
END:VEVENT
BEGIN:VEVENT
DTSTART;TZID=America/Detroit:20260602T080000
DTEND;TZID=America/Detroit:20260602T093000
DTSTAMP:20260424T120445
CREATED:20250630T181028Z
LAST-MODIFIED:20250630T181137Z
UID:10000779-1780387200-1780392600@stclairfoundation.org
SUMMARY:Marysville Community Fund Committee Meeting
DESCRIPTION:
URL:https://stclairfoundation.org/calendar/marysville-community-funds-committee-meeting/
LOCATION:CF Conference Room\, 500 Water Street\, Port Huron\, MI\, 48060\, United States
END:VEVENT
BEGIN:VEVENT
DTSTART;TZID=America/Detroit:20260602T083000
DTEND;TZID=America/Detroit:20260602T100000
DTSTAMP:20260424T120445
CREATED:20260407T174254Z
LAST-MODIFIED:20260407T174424Z
UID:10000815-1780389000-1780394400@stclairfoundation.org
SUMMARY:Governance Committee Meeting
DESCRIPTION:
URL:https://stclairfoundation.org/calendar/governance-committee-meeting-18/
LOCATION:CF Conference Room\, 500 Water Street\, Port Huron\, MI\, 48060\, United States
END:VEVENT
BEGIN:VEVENT
DTSTART;TZID=America/Detroit:20260604T080000
DTEND;TZID=America/Detroit:20260604T093000
DTSTAMP:20260424T120445
CREATED:20250630T182331Z
LAST-MODIFIED:20250630T182331Z
UID:10000785-1780560000-1780565400@stclairfoundation.org
SUMMARY:SC4 Foundation Board Meeting
DESCRIPTION:
URL:https://stclairfoundation.org/calendar/sc4-foundation-board-meeting-7/
LOCATION:CF Conference Room\, 500 Water Street\, Port Huron\, MI\, 48060\, United States
END:VEVENT
BEGIN:VEVENT
DTSTART;TZID=America/Detroit:20260610T080000
DTEND;TZID=America/Detroit:20260610T093000
DTSTAMP:20260424T120445
CREATED:20250630T174031Z
LAST-MODIFIED:20250630T174031Z
UID:10000761-1781078400-1781083800@stclairfoundation.org
SUMMARY:Executive Committee Meeting
DESCRIPTION:
URL:https://stclairfoundation.org/calendar/executive-committee-meeting-24/
LOCATION:CF Conference Room\, 500 Water Street\, Port Huron\, MI\, 48060\, United States
END:VEVENT
BEGIN:VEVENT
DTSTART;TZID=America/Detroit:20260611T083000
DTEND;TZID=America/Detroit:20260611T100000
DTSTAMP:20260424T120445
CREATED:20250626T190057Z
LAST-MODIFIED:20250626T190057Z
UID:10000746-1781166600-1781172000@stclairfoundation.org
SUMMARY:Blue Water Arts Committee Meeting
DESCRIPTION:
URL:https://stclairfoundation.org/calendar/blue-water-arts-committee-meeting-8/
LOCATION:CF Conference Room\, 500 Water Street\, Port Huron\, MI\, 48060\, United States
END:VEVENT
BEGIN:VEVENT
DTSTART;TZID=America/Detroit:20260611T170000
DTEND;TZID=America/Detroit:20260611T183000
DTSTAMP:20260424T120445
CREATED:20250630T173353Z
LAST-MODIFIED:20260310T133408Z
UID:10000756-1781197200-1781202600@stclairfoundation.org
SUMMARY:Equity & Inclusion Committee Meeting
DESCRIPTION:
URL:https://stclairfoundation.org/calendar/equity-inclusion-committee-meeting-12/
LOCATION:CF Conference Room\, 500 Water Street\, Port Huron\, MI\, 48060\, United States
END:VEVENT
BEGIN:VEVENT
DTSTART;TZID=America/Detroit:20260615T143000
DTEND;TZID=America/Detroit:20260615T160000
DTSTAMP:20260424T120445
CREATED:20250630T182650Z
LAST-MODIFIED:20250630T182650Z
UID:10000789-1781533800-1781539200@stclairfoundation.org
SUMMARY:St. Clair Endowment Funds Committee Meeting
DESCRIPTION:
URL:https://stclairfoundation.org/calendar/st-clair-endowment-funds-committee-meeting-16/
LOCATION:CF Conference Room\, 500 Water Street\, Port Huron\, MI\, 48060\, United States
END:VEVENT
BEGIN:VEVENT
DTSTART;TZID=America/Detroit:20260617T150000
DTEND;TZID=America/Detroit:20260617T163000
DTSTAMP:20260424T120445
CREATED:20250630T180754Z
LAST-MODIFIED:20250630T180754Z
UID:10000776-1781708400-1781713800@stclairfoundation.org
SUMMARY:Grants Committee Meeting
DESCRIPTION:
URL:https://stclairfoundation.org/calendar/grants-committee-meeting-14/
LOCATION:CF Conference Room\, 500 Water Street\, Port Huron\, MI\, 48060\, United States
END:VEVENT
BEGIN:VEVENT
DTSTART;TZID=America/Detroit:20260625T120000
DTEND;TZID=America/Detroit:20260625T140000
DTSTAMP:20260424T120445
CREATED:20250626T190815Z
LAST-MODIFIED:20260205T191930Z
UID:10000752-1782388800-1782396000@stclairfoundation.org
SUMMARY:Community Foundation Annual Picnic
DESCRIPTION:
URL:https://stclairfoundation.org/calendar/board-casual-dinner/
LOCATION:CF Conference Room\, 500 Water Street\, Port Huron\, MI\, 48060\, United States
END:VEVENT
BEGIN:VEVENT
DTSTART;TZID=America/Detroit:20260715T073000
DTEND;TZID=America/Detroit:20260715T090000
DTSTAMP:20260424T120445
CREATED:20250630T184707Z
LAST-MODIFIED:20250630T184707Z
UID:10000795-1784100600-1784106000@stclairfoundation.org
SUMMARY:Women's Initiative Steering Committee Meeting
DESCRIPTION:
URL:https://stclairfoundation.org/calendar/womens-initiative-steering-committee-meeting-11/
LOCATION:CF Conference Room\, 500 Water Street\, Port Huron\, MI\, 48060\, United States
END:VEVENT
BEGIN:VEVENT
DTSTART;TZID=America/Detroit:20260716T093000
DTEND;TZID=America/Detroit:20260716T110000
DTSTAMP:20260424T120445
CREATED:20250630T182012Z
LAST-MODIFIED:20250630T182012Z
UID:10000783-1784194200-1784199600@stclairfoundation.org
SUMMARY:Scholarship Committee Meeting
DESCRIPTION:
URL:https://stclairfoundation.org/calendar/scholarship-committee-meeting-16/
LOCATION:CF Conference Room\, 500 Water Street\, Port Huron\, MI\, 48060\, United States
END:VEVENT
BEGIN:VEVENT
DTSTART;TZID=America/Detroit:20260721T120000
DTEND;TZID=America/Detroit:20260721T140000
DTSTAMP:20260424T120445
CREATED:20260309T195835Z
LAST-MODIFIED:20260309T195835Z
UID:10000814-1784635200-1784642400@stclairfoundation.org
SUMMARY:Board Meeting
DESCRIPTION:
URL:https://stclairfoundation.org/calendar/board-meeting-7/
LOCATION:CF Conference Room\, 500 Water Street\, Port Huron\, MI\, 48060\, United States
END:VEVENT
BEGIN:VEVENT
DTSTART;TZID=America/Detroit:20260722T083000
DTEND;TZID=America/Detroit:20260722T100000
DTSTAMP:20260424T120445
CREATED:20250630T175901Z
LAST-MODIFIED:20250630T175901Z
UID:10000766-1784709000-1784714400@stclairfoundation.org
SUMMARY:Finance & Investment Committee Meeting
DESCRIPTION:
URL:https://stclairfoundation.org/calendar/finance-investment-committee-meeting-23/
LOCATION:CF Conference Room\, 500 Water Street\, Port Huron\, MI\, 48060\, United States
END:VEVENT
BEGIN:VEVENT
DTSTART;TZID=America/Detroit:20260804T083000
DTEND;TZID=America/Detroit:20260804T100000
DTSTAMP:20260424T120445
CREATED:20250630T180312Z
LAST-MODIFIED:20250630T180312Z
UID:10000771-1785832200-1785837600@stclairfoundation.org
SUMMARY:Governance Committee Meeting
DESCRIPTION:
URL:https://stclairfoundation.org/calendar/governance-committee-meeting-15/
LOCATION:CF Conference Room\, 500 Water Street\, Port Huron\, MI\, 48060\, United States
END:VEVENT
BEGIN:VEVENT
DTSTART;TZID=America/Detroit:20260806T083000
DTEND;TZID=America/Detroit:20260806T100000
DTSTAMP:20260424T120445
CREATED:20250626T190141Z
LAST-MODIFIED:20250626T190141Z
UID:10000747-1786005000-1786010400@stclairfoundation.org
SUMMARY:Blue Water Arts Committee Meeting
DESCRIPTION:
URL:https://stclairfoundation.org/calendar/blue-water-arts-committee-meeting-9/
LOCATION:CF Conference Room\, 500 Water Street\, Port Huron\, MI\, 48060\, United States
END:VEVENT
BEGIN:VEVENT
DTSTART;TZID=America/Detroit:20260812T080000
DTEND;TZID=America/Detroit:20260812T093000
DTSTAMP:20260424T120445
CREATED:20250630T174135Z
LAST-MODIFIED:20250630T174135Z
UID:10000762-1786521600-1786527000@stclairfoundation.org
SUMMARY:Executive Committee Meeting
DESCRIPTION:
URL:https://stclairfoundation.org/calendar/executive-committee-meeting-25/
LOCATION:CF Conference Room\, 500 Water Street\, Port Huron\, MI\, 48060\, United States
END:VEVENT
BEGIN:VEVENT
DTSTART;TZID=America/Detroit:20260826T083000
DTEND;TZID=America/Detroit:20260826T100000
DTSTAMP:20260424T120445
CREATED:20250630T175950Z
LAST-MODIFIED:20250630T175950Z
UID:10000767-1787733000-1787738400@stclairfoundation.org
SUMMARY:Finance & Investment Committee Meeting
DESCRIPTION:
URL:https://stclairfoundation.org/calendar/finance-investment-committee-meeting-24/
LOCATION:CF Conference Room\, 500 Water Street\, Port Huron\, MI\, 48060\, United States
END:VEVENT
BEGIN:VEVENT
DTSTART;TZID=America/Detroit:20260908T080000
DTEND;TZID=America/Detroit:20260908T093000
DTSTAMP:20260424T120445
CREATED:20250630T181108Z
LAST-MODIFIED:20250630T181108Z
UID:10000780-1788854400-1788859800@stclairfoundation.org
SUMMARY:Marysville Community Fund Committee Meeting
DESCRIPTION:
URL:https://stclairfoundation.org/calendar/marysville-community-fund-committee-meeting-11/
LOCATION:CF Conference Room\, 500 Water Street\, Port Huron\, MI\, 48060\, United States
END:VEVENT
BEGIN:VEVENT
DTSTART;TZID=America/Detroit:20260909T073000
DTEND;TZID=America/Detroit:20260909T090000
DTSTAMP:20260424T120445
CREATED:20250630T184753Z
LAST-MODIFIED:20250630T184753Z
UID:10000796-1788939000-1788944400@stclairfoundation.org
SUMMARY:Women's Initiative Steering Committee Meeting
DESCRIPTION:
URL:https://stclairfoundation.org/calendar/womens-initiative-steering-committee-meeting-12/
LOCATION:CF Conference Room\, 500 Water Street\, Port Huron\, MI\, 48060\, United States
END:VEVENT
BEGIN:VEVENT
DTSTART;TZID=America/Detroit:20260910T170000
DTEND;TZID=America/Detroit:20260910T183000
DTSTAMP:20260424T120445
CREATED:20250630T173503Z
LAST-MODIFIED:20250630T173503Z
UID:10000757-1789059600-1789065000@stclairfoundation.org
SUMMARY:Equity & Inclusion Committee Meeting
DESCRIPTION:
URL:https://stclairfoundation.org/calendar/equity-inclusion-committee-meeting-13/
LOCATION:CF Conference Room\, 500 Water Street\, Port Huron\, MI\, 48060\, United States
END:VEVENT
BEGIN:VEVENT
DTSTART;TZID=America/Detroit:20260914T143000
DTEND;TZID=America/Detroit:20260914T160000
DTSTAMP:20260424T120445
CREATED:20250630T182750Z
LAST-MODIFIED:20250630T182750Z
UID:10000790-1789396200-1789401600@stclairfoundation.org
SUMMARY:St. Clair Endowment Fund Committee Meeting
DESCRIPTION:
URL:https://stclairfoundation.org/calendar/st-clair-endowment-fund-committee-meeting/
LOCATION:CF Conference Room\, 500 Water Street\, Port Huron\, MI\, 48060\, United States
END:VEVENT
BEGIN:VEVENT
DTSTART;TZID=America/Detroit:20260916T150000
DTEND;TZID=America/Detroit:20260916T163000
DTSTAMP:20260424T120445
CREATED:20250630T180834Z
LAST-MODIFIED:20250630T180834Z
UID:10000777-1789570800-1789576200@stclairfoundation.org
SUMMARY:Grants Committee Meeting
DESCRIPTION:
URL:https://stclairfoundation.org/calendar/grants-committee-meeting-15/
LOCATION:CF Conference Room\, 500 Water Street\, Port Huron\, MI\, 48060\, United States
END:VEVENT
BEGIN:VEVENT
DTSTART;TZID=America/Detroit:20260920T170000
DTEND;TZID=America/Detroit:20260920T183000
DTSTAMP:20260424T120445
CREATED:20250702T145024Z
LAST-MODIFIED:20250702T145244Z
UID:10000803-1789923600-1789929000@stclairfoundation.org
SUMMARY:Youth Advisory Council
DESCRIPTION:
URL:https://stclairfoundation.org/calendar/youth-advisory-council-6/
LOCATION:CF Conference Room\, 500 Water Street\, Port Huron\, MI\, 48060\, United States
END:VEVENT
END:VCALENDAR